BEGIN:VCALENDAR
VERSION:2.0
PRODID:-//Family Foundations Ministry - ECPv6.15.20//NONSGML v1.0//EN
CALSCALE:GREGORIAN
METHOD:PUBLISH
X-WR-CALNAME:Family Foundations Ministry
X-ORIGINAL-URL:https://familyfoundationsministry.com
X-WR-CALDESC:Events for Family Foundations Ministry
REFRESH-INTERVAL;VALUE=DURATION:PT1H
X-Robots-Tag:noindex
X-PUBLISHED-TTL:PT1H
BEGIN:VTIMEZONE
TZID:America/Los_Angeles
BEGIN:DAYLIGHT
TZOFFSETFROM:-0800
TZOFFSETTO:-0700
TZNAME:PDT
DTSTART:20210314T100000
END:DAYLIGHT
BEGIN:STANDARD
TZOFFSETFROM:-0700
TZOFFSETTO:-0800
TZNAME:PST
DTSTART:20211107T090000
END:STANDARD
BEGIN:DAYLIGHT
TZOFFSETFROM:-0800
TZOFFSETTO:-0700
TZNAME:PDT
DTSTART:20220313T100000
END:DAYLIGHT
BEGIN:STANDARD
TZOFFSETFROM:-0700
TZOFFSETTO:-0800
TZNAME:PST
DTSTART:20221106T090000
END:STANDARD
BEGIN:DAYLIGHT
TZOFFSETFROM:-0800
TZOFFSETTO:-0700
TZNAME:PDT
DTSTART:20230312T100000
END:DAYLIGHT
BEGIN:STANDARD
TZOFFSETFROM:-0700
TZOFFSETTO:-0800
TZNAME:PST
DTSTART:20231105T090000
END:STANDARD
END:VTIMEZONE
BEGIN:VEVENT
DTSTART;TZID=America/Los_Angeles:20220817T100000
DTEND;TZID=America/Los_Angeles:20220817T120000
DTSTAMP:20260423T033131
CREATED:20220530T221857Z
LAST-MODIFIED:20220530T221857Z
UID:3566-1660730400-1660737600@familyfoundationsministry.com
SUMMARY:Play & Pray - Moms Connecting with Moms
DESCRIPTION:WATER DAY!! \nWe will still meet at the Barn address but will have water games and activities for the kids to do. What to bring- towels\, sunblock We will provide- fun water activities for kids\, Espresso drinks and pizza for lunch-  Please RSVP so we know how much pizza we need! \nMoms Connecting with Moms-\nWe are meeting at the BARN this week! \nJoin us from 10:00am – 12pm\nEspresso for mom and fun activities for the kiddos!\nCome for the whole time or stop by for a free espresso!\nLook forward to seeing you there!
URL:https://familyfoundationsministry.com/event/play-pray-moms-connecting-with-moms-14/
LOCATION:ID
END:VEVENT
BEGIN:VEVENT
DTSTART;TZID=America/Los_Angeles:20220810T100000
DTEND;TZID=America/Los_Angeles:20220810T120000
DTSTAMP:20260423T033131
CREATED:20220530T221513Z
LAST-MODIFIED:20220530T221513Z
UID:3564-1660125600-1660132800@familyfoundationsministry.com
SUMMARY:Play & Pray - Moms Connecting with Moms
DESCRIPTION:Moms Connecting with Moms-\nWe are meeting at the BARN this week! \nJoin us from 10:00am – 12pm\nEspresso for mom and fun activities for the kiddos!\nCome for the whole time or stop by and get a free espresso!\nLook forward to seeing you there!
URL:https://familyfoundationsministry.com/event/play-pray-moms-connecting-with-moms-13/
LOCATION:ID
END:VEVENT
BEGIN:VEVENT
DTSTART;TZID=America/Los_Angeles:20220803T100000
DTEND;TZID=America/Los_Angeles:20220803T120000
DTSTAMP:20260423T033131
CREATED:20220530T214233Z
LAST-MODIFIED:20220530T214233Z
UID:3547-1659520800-1659528000@familyfoundationsministry.com
SUMMARY:Play & Pray - Moms Connecting with Moms
DESCRIPTION:Join us this week at AGAPE Coffeehouse for a free coffee! \nIf you can’t stay the whole time\, that’s okay.  Swing by and get a coffee and say Hello and let the kiddos play while your coffee is being made. \nWe meet from 10:00am – 12:00pm
URL:https://familyfoundationsministry.com/event/play-pray-moms-connecting-with-moms-5/
LOCATION:Agape Coffee House Payette Idaho\, 20 S 16th St\, Payette\, 83661
END:VEVENT
BEGIN:VEVENT
DTSTART;TZID=America/Los_Angeles:20220629T100000
DTEND;TZID=America/Los_Angeles:20220629T120000
DTSTAMP:20260423T033131
CREATED:20220530T215914Z
LAST-MODIFIED:20220530T215914Z
UID:3555-1656496800-1656504000@familyfoundationsministry.com
SUMMARY:Play & Pray - Moms Connecting with Moms
DESCRIPTION:Moms Connecting with Moms-\nWe are meeting at the BARN this week! \nJoin us from 10:00am – 12pm\nEspresso for mom and fun activities for the kiddos!\nCome for the whole time or stop by and get a free espresso!\nLook forward to seeing you there!
URL:https://familyfoundationsministry.com/event/play-pray-moms-connecting-with-moms-9/
LOCATION:The Barn\, 920 NW 14TH AVE\, PAYETTE\, ID\, 83661\, United States
END:VEVENT
BEGIN:VEVENT
DTSTART;TZID=America/Los_Angeles:20220626T163000
DTEND;TZID=America/Los_Angeles:20220626T193000
DTSTAMP:20260423T033131
CREATED:20220503T201534Z
LAST-MODIFIED:20220531T184524Z
UID:3485-1656261000-1656271800@familyfoundationsministry.com
SUMMARY:Sunday Dinner
DESCRIPTION:Join us for Sunday Community Dinner- There’s room around the table! \nFor more information you can find us on Facebook @ Sunday Dinner- There’s room around the table!\nOr call/text- 360-320-3991 \n \n 
URL:https://familyfoundationsministry.com/event/sunday-dinner-2/
LOCATION:The Barn\, 920 NW 14TH AVE\, PAYETTE\, ID\, 83661\, United States
END:VEVENT
BEGIN:VEVENT
DTSTART;TZID=America/Los_Angeles:20220622T100000
DTEND;TZID=America/Los_Angeles:20220622T120000
DTSTAMP:20260423T033131
CREATED:20220530T215718Z
LAST-MODIFIED:20220530T215718Z
UID:3553-1655892000-1655899200@familyfoundationsministry.com
SUMMARY:Play & Pray - Moms Connecting with Moms
DESCRIPTION:Moms Connecting with Moms-\nWe are meeting at the BARN this week! \nJoin us from 10:00am – 12pm\nEspresso for mom and fun activities for the kiddos!\nCome for the whole time or stop by and get a free espresso!\nLook forward to seeing you there!
URL:https://familyfoundationsministry.com/event/play-pray-moms-connecting-with-moms-8/
LOCATION:The Barn\, 920 NW 14TH AVE\, PAYETTE\, ID\, 83661\, United States
END:VEVENT
BEGIN:VEVENT
DTSTART;TZID=America/Los_Angeles:20220615T100000
DTEND;TZID=America/Los_Angeles:20220615T120000
DTSTAMP:20260423T033131
CREATED:20220530T215500Z
LAST-MODIFIED:20220530T215500Z
UID:3551-1655287200-1655294400@familyfoundationsministry.com
SUMMARY:Play & Pray - Moms Connecting with Moms
DESCRIPTION:WATER FUN DAY!!!! \nMoms Connecting with Moms-\nWe will still meet at the Barn address but will have water games and activities for the kids to do. \nWhat to bring- towels\, sunblock \nWe will provide- fun water activities for kids\, Espresso drinks and pizza for lunch-  Please RSVP so we know how much pizza we need!  Renee @ 360-320-3991 \nJoin us from 10:00am – 12pm\nEspresso for mom and fun activities for the kiddos!\nCome for the whole time or stop by and get a free espresso!\nLook forward to seeing you there!
URL:https://familyfoundationsministry.com/event/play-pray-moms-connecting-with-moms-7/
LOCATION:The Barn\, 920 NW 14TH AVE\, PAYETTE\, ID\, 83661\, United States
END:VEVENT
BEGIN:VEVENT
DTSTART;TZID=America/Los_Angeles:20220608T100000
DTEND;TZID=America/Los_Angeles:20220608T120000
DTSTAMP:20260423T033131
CREATED:20220530T214836Z
LAST-MODIFIED:20220530T214836Z
UID:3549-1654682400-1654689600@familyfoundationsministry.com
SUMMARY:Play & Pray - Moms Connecting with Moms
DESCRIPTION:Moms Connecting with Moms-\nWe are meeting at the BARN this week! \nJoin us from 10:00am – 12pm\nEspresso for mom and fun activities for the kiddos!\nCome for the whole time or stop by for a free espresso!\nLook forward to seeing you there!
URL:https://familyfoundationsministry.com/event/play-pray-moms-connecting-with-moms-6/
LOCATION:The Barn\, 920 NW 14TH AVE\, PAYETTE\, ID\, 83661\, United States
END:VEVENT
BEGIN:VEVENT
DTSTART;TZID=America/Los_Angeles:20220601T100000
DTEND;TZID=America/Los_Angeles:20220601T120000
DTSTAMP:20260423T033131
CREATED:20220530T213637Z
LAST-MODIFIED:20220530T213637Z
UID:3543-1654077600-1654084800@familyfoundationsministry.com
SUMMARY:Play & Pray - Moms connecting with Moms
DESCRIPTION:Join us at Agape Coffee House for a free cup of coffee\, courtesy of Family Foundations. \nIf you can’t stay the whole time\, that’s okay.  Swing by and get a coffee and say Hello and let the kiddos play while your coffee is being made. \nWe meet from 10:00am – 12:00pm \n \n 
URL:https://familyfoundationsministry.com/event/play-pray-moms-connecting-with-moms-4/
LOCATION:Agape Coffee House Payette Idaho\, 20 S 16th St\, Payette\, 83661
END:VEVENT
BEGIN:VEVENT
DTSTART;TZID=America/Los_Angeles:20220525T100000
DTEND;TZID=America/Los_Angeles:20220525T120000
DTSTAMP:20260423T033131
CREATED:20220503T200729Z
LAST-MODIFIED:20220503T200729Z
UID:3483-1653472800-1653480000@familyfoundationsministry.com
SUMMARY:Play & Pray- Moms Connecting with Moms
DESCRIPTION:Moms Connecting with Moms-\nWe are meeting at the BARN this week! \nJoin us from 10:00am – 12pm\nEspresso for mom and fun activities for the kiddos!\nCome for the whole time or stop by and get a free espresso!\nLook forward to seeing you there!
URL:https://familyfoundationsministry.com/event/play-pray-moms-connecting-with-moms-3/
LOCATION:The Barn\, 920 NW 14TH AVE\, PAYETTE\, ID\, 83661\, United States
END:VEVENT
BEGIN:VEVENT
DTSTART;TZID=America/Los_Angeles:20220518T100000
DTEND;TZID=America/Los_Angeles:20220518T120000
DTSTAMP:20260423T033131
CREATED:20220503T200526Z
LAST-MODIFIED:20220503T200526Z
UID:3478-1652868000-1652875200@familyfoundationsministry.com
SUMMARY:PLAY & PRAY- Moms connecting with Moms
DESCRIPTION:Moms Connecting with Moms-\nWe are meeting at the BARN this week! \nJoin us from 10:00am – 12pm\nEspresso for mom and fun activities for the kiddos!\nCome for the whole time or stop by and get a free espresso!\nLook forward to seeing you there!
URL:https://familyfoundationsministry.com/event/play-pray-moms-connecting-with-moms-2/
LOCATION:The Barn\, 920 NW 14TH AVE\, PAYETTE\, ID\, 83661\, United States
END:VEVENT
BEGIN:VEVENT
DTSTART;TZID=America/Los_Angeles:20220515T163000
DTEND;TZID=America/Los_Angeles:20220515T193000
DTSTAMP:20260423T033131
CREATED:20220531T184345Z
LAST-MODIFIED:20220531T184345Z
UID:3591-1652632200-1652643000@familyfoundationsministry.com
SUMMARY:Sunday Dinner Copy
DESCRIPTION:Join us for Sunday Community Dinner- There’s room around the table! \nThis month we are having a good old fashion Barbecue!!! \nBring a side dish to share we will provide the meat and drinks! \nFor more information you can find us on Facebook @ Sunday Dinner- There’s room around the table!\nOr call/text- 360-320-3991 \n \n 
URL:https://familyfoundationsministry.com/event/sunday-dinner-2-copy/
LOCATION:The Barn\, 920 NW 14TH AVE\, PAYETTE\, ID\, 83661\, United States
END:VEVENT
BEGIN:VEVENT
DTSTART;TZID=America/Los_Angeles:20220511T100000
DTEND;TZID=America/Los_Angeles:20220511T120000
DTSTAMP:20260423T033131
CREATED:20220503T195505Z
LAST-MODIFIED:20220503T195505Z
UID:3476-1652263200-1652270400@familyfoundationsministry.com
SUMMARY:PLAY & PRAY- Moms connecting with Moms
DESCRIPTION:Join us this week at AGAPE Coffeehouse for a free coffee! \nIf you can’t stay the whole time\, that’s okay.  Swing by and get a coffee and say Hello and let the kiddos play while your coffee is being made. \nWe meet from 10:00am – 12:00pm
URL:https://familyfoundationsministry.com/event/play-pray-moms-connecting-with-moms/
LOCATION:Agape Coffee House Payette Idaho\, 20 S 16th St\, Payette\, 83661
END:VEVENT
BEGIN:VEVENT
DTSTART;TZID=America/Los_Angeles:20220504T090000
DTEND;TZID=America/Los_Angeles:20220504T120000
DTSTAMP:20260423T033131
CREATED:20220503T195018Z
LAST-MODIFIED:20220503T195018Z
UID:3474-1651654800-1651665600@familyfoundationsministry.com
SUMMARY:PLAY & PRAY
DESCRIPTION:Join us this week in Celebrating MOMS!!!
URL:https://familyfoundationsministry.com/event/play-pray-8/
LOCATION:The Barn\, 920 NW 14TH AVE\, PAYETTE\, ID\, 83661\, United States
END:VEVENT
BEGIN:VEVENT
DTSTART;TZID=America/Los_Angeles:20220417T163000
DTEND;TZID=America/Los_Angeles:20220417T203000
DTSTAMP:20260423T033131
CREATED:20220326T172942Z
LAST-MODIFIED:20220326T172942Z
UID:3406-1650213000-1650227400@familyfoundationsministry.com
SUMMARY:Easter Sunday Dinner
DESCRIPTION:Join us on Easter Sunday for Dinner and an Easter Egg hunt for the kids. And don’t worry fun for the grown ups too!!\nPlease bring a dish to share-\nSign up on Facebook @. Sunday Dinner- There’s room around the table
URL:https://familyfoundationsministry.com/event/easter-sunday-dinner/
LOCATION:The Barn\, 920 NW 14TH AVE\, PAYETTE\, ID\, 83661\, United States
END:VEVENT
BEGIN:VEVENT
DTSTART;TZID=America/Los_Angeles:20220330T100000
DTEND;TZID=America/Los_Angeles:20220330T113000
DTSTAMP:20260423T033131
CREATED:20220302T222006Z
LAST-MODIFIED:20220302T222006Z
UID:3250-1648634400-1648639800@familyfoundationsministry.com
SUMMARY:Play & Pray
DESCRIPTION:Join other moms to gather and enjoy a cup of coffee and good community while your children ages 0-5 play in a safe indoor environment with fun craft each week! \nWe meet each week at the Barn. Kids can play while moms visit.  At 10:30 there will be a craft or activity for the children.  See you there! \n         
URL:https://familyfoundationsministry.com/event/play-pray-7/
LOCATION:The Barn\, 920 NW 14TH AVE\, PAYETTE\, ID\, 83661\, United States
END:VEVENT
BEGIN:VEVENT
DTSTART;TZID=America/Los_Angeles:20220323T080000
DTEND;TZID=America/Los_Angeles:20220323T170000
DTSTAMP:20260423T033131
CREATED:20220302T221709Z
LAST-MODIFIED:20220302T221709Z
UID:3248-1648022400-1648054800@familyfoundationsministry.com
SUMMARY:Play & Pray
DESCRIPTION:Join other moms to gather and enjoy a cup of coffee and good community while your children ages 0-5 play in a safe indoor environment with fun craft each week! \nWe meet each week at the Barn. Kids can play while moms visit.  At 10:30 there will be a craft or activity for the children.  See you there! \n   
URL:https://familyfoundationsministry.com/event/play-pray-6/
LOCATION:The Barn\, 920 NW 14TH AVE\, PAYETTE\, ID\, 83661\, United States
END:VEVENT
BEGIN:VEVENT
DTSTART;TZID=America/Los_Angeles:20220320T163000
DTEND;TZID=America/Los_Angeles:20220320T183000
DTSTAMP:20260423T033131
CREATED:20220303T184254Z
LAST-MODIFIED:20220308T201017Z
UID:3253-1647793800-1647801000@familyfoundationsministry.com
SUMMARY:Sunday Dinner- There's Room Around the Table!
DESCRIPTION:Join us on the 3rd Sunday of the Month for A Community Sunday Dinner and an evening of fun. \nFor more details and follow us on Facebook! \n \n 
URL:https://familyfoundationsministry.com/event/sunday-dinner-theres-room-around-the-table/
LOCATION:The Barn\, 920 NW 14TH AVE\, PAYETTE\, ID\, 83661\, United States
END:VEVENT
BEGIN:VEVENT
DTSTART;TZID=America/Los_Angeles:20220316T100000
DTEND;TZID=America/Los_Angeles:20220316T113000
DTSTAMP:20260423T033131
CREATED:20220302T220758Z
LAST-MODIFIED:20220302T221309Z
UID:3245-1647424800-1647430200@familyfoundationsministry.com
SUMMARY:Play & Pray
DESCRIPTION:Join other moms to gather and enjoy a cup of coffee and good community while your children ages 0-5 play in a safe indoor environment with fun craft each week! \nWe meet each week at “The Barn”.  Kids can play while moms visit.   At 10:30 there will be a craft or activity for the children.  See you there! \n         
URL:https://familyfoundationsministry.com/event/play-pray-5/
LOCATION:The Barn\, 920 NW 14TH AVE\, PAYETTE\, ID\, 83661\, United States
END:VEVENT
BEGIN:VEVENT
DTSTART;TZID=America/Los_Angeles:20220309T100000
DTEND;TZID=America/Los_Angeles:20220309T113000
DTSTAMP:20260423T033131
CREATED:20220302T220120Z
LAST-MODIFIED:20220302T220513Z
UID:3242-1646820000-1646825400@familyfoundationsministry.com
SUMMARY:Play & Pray
DESCRIPTION:Join other moms to gather and enjoy a cup of coffee and good community while your children ages 0-5 play in a safe indoor environment with fun craft each week! \nWe meet each week at the Barn. Kids can play while moms visit.  At 10:30 there will be a craft or activity for the children.  See you there! \n  \n \n \n 
URL:https://familyfoundationsministry.com/event/play-pray-4/
LOCATION:The Barn\, 920 NW 14TH AVE\, PAYETTE\, ID\, 83661\, United States
END:VEVENT
BEGIN:VEVENT
DTSTART;TZID=America/Los_Angeles:20220302T100000
DTEND;TZID=America/Los_Angeles:20220302T113000
DTSTAMP:20260423T033131
CREATED:20220302T214621Z
LAST-MODIFIED:20220302T214621Z
UID:3239-1646215200-1646220600@familyfoundationsministry.com
SUMMARY:Play & Pray
DESCRIPTION:Join other moms to gather and enjoy a cup of coffee and good community while your children ages 0-5 play in a safe indoor environment with fun craft each week!
URL:https://familyfoundationsministry.com/event/play-pray-3/
LOCATION:Agape Coffee House Payette Idaho\, 20 S 16th St\, Payette\, 83661
END:VEVENT
BEGIN:VEVENT
DTSTART;TZID=America/Los_Angeles:20220227T163000
DTEND;TZID=America/Los_Angeles:20220227T183000
DTSTAMP:20260423T033131
CREATED:20220215T230123Z
LAST-MODIFIED:20220215T230123Z
UID:3156-1645979400-1645986600@familyfoundationsministry.com
SUMMARY:SUNDAY DINNER -
DESCRIPTION:
URL:https://familyfoundationsministry.com/event/sunday-dinner/
LOCATION:The Barn\, 920 NW 14TH AVE\, PAYETTE\, ID\, 83661\, United States
END:VEVENT
BEGIN:VEVENT
DTSTART;TZID=America/Los_Angeles:20220223T100000
DTEND;TZID=America/Los_Angeles:20220223T113000
DTSTAMP:20260423T033131
CREATED:20220217T054519Z
LAST-MODIFIED:20220217T054519Z
UID:3161-1645610400-1645615800@familyfoundationsministry.com
SUMMARY:PLAY & PRAY
DESCRIPTION:Join other moms to gather and enjoy a cup of coffee and good community while your children ages 0-5 play in a safe indoor environment with fun craft each week!  We are currently meeting at Agape Coffee House in Payette.
URL:https://familyfoundationsministry.com/event/play-pray/
LOCATION:Agape Coffee House Payette Idaho\, 20 S 16th St\, Payette\, 83661
END:VEVENT
BEGIN:VEVENT
DTSTART;TZID=America/Los_Angeles:20220216T100000
DTEND;TZID=America/Los_Angeles:20220216T113000
DTSTAMP:20260423T033131
CREATED:20220217T054536Z
LAST-MODIFIED:20220217T054536Z
UID:3153-1645005600-1645011000@familyfoundationsministry.com
SUMMARY:PLAY & PRAY
DESCRIPTION:Join other moms to gather and enjoy a cup of coffee and good community while your children ages 0-5 play in a safe indoor environment with fun craft each week!
URL:https://familyfoundationsministry.com/event/play-pray-2/
LOCATION:ID
END:VEVENT
END:VCALENDAR